BEGIN:VCALENDAR
VERSION:2.0
PRODID:-//Programs and Events Calendar - ECPv5.9.0//NONSGML v1.0//EN
CALSCALE:GREGORIAN
METHOD:PUBLISH
X-WR-CALNAME:Programs and Events Calendar
X-ORIGINAL-URL:https://naturalsciences.org/calendar
X-WR-CALDESC:Events for Programs and Events Calendar
BEGIN:VTIMEZONE
TZID:America/New_York
BEGIN:DAYLIGHT
TZOFFSETFROM:-0500
TZOFFSETTO:-0400
TZNAME:EDT
DTSTART:20260308T070000
END:DAYLIGHT
BEGIN:STANDARD
TZOFFSETFROM:-0400
TZOFFSETTO:-0500
TZNAME:EST
DTSTART:20261101T060000
END:STANDARD
END:VTIMEZONE
BEGIN:VEVENT
DTSTART;TZID=America/New_York:20260213T120000
DTEND;TZID=America/New_York:20260213T130000
DTSTAMP:20260421T172814
CREATED:20260120T155029Z
LAST-MODIFIED:20260120T155029Z
UID:118043-1770984000-1770987600@naturalsciences.org
SUMMARY:Identify Your Backyard Birds
DESCRIPTION:Get ready to participate in the Great Backyard Bird Count by learning the basics of bird identification! We’ll cover the four keys to bird ID\, making observations\, and identification resources that can help you get involved in this international citizen science event right from your own backyard in this interactive virtual lunchtime program. \nRegister here
URL:https://naturalsciences.org/calendar/event/identify-your-backyard-birds/
LOCATION:Virtual\, NC\, United States
CATEGORIES:Adults,Citizen Science,Virtual
ORGANIZER;CN="Chris%20Goforth":MAILTO:chris.goforth@naturalsciences.org
END:VEVENT
END:VCALENDAR