BEGIN:VCALENDAR
VERSION:2.0
PRODID:-//Programs and Events Calendar - ECPv5.9.0//NONSGML v1.0//EN
CALSCALE:GREGORIAN
METHOD:PUBLISH
X-WR-CALNAME:Programs and Events Calendar
X-ORIGINAL-URL:https://naturalsciences.org/calendar
X-WR-CALDESC:Events for Programs and Events Calendar
BEGIN:VTIMEZONE
TZID:America/New_York
BEGIN:DAYLIGHT
TZOFFSETFROM:-0500
TZOFFSETTO:-0400
TZNAME:EDT
DTSTART:20220313T070000
END:DAYLIGHT
BEGIN:STANDARD
TZOFFSETFROM:-0400
TZOFFSETTO:-0500
TZNAME:EST
DTSTART:20221106T060000
END:STANDARD
END:VTIMEZONE
BEGIN:VEVENT
DTSTART;TZID=America/New_York:20220625T140000
DTEND;TZID=America/New_York:20220625T150000
DTSTAMP:20260421T064321
CREATED:20220528T173232Z
LAST-MODIFIED:20220531T165114Z
UID:74928-1656165600-1656169200@naturalsciences.org
SUMMARY:Gardening for Kids
DESCRIPTION:Have young children interested in digging through the dirt and watching plants grow? This is the program for you! Intended for early childhood audiences (ages 7 and below)\, this program is designed to engage children with different hands-on\, interactive approaches to gardening and nature exploration. We’ll break out the gardening tools\, have some fun with seeds\, and take a closer look at the invertebrate friends we often find while digging in soil. \nCost: $5\, $3 for Members. Please note that all participants will receive seeds and plants to take home! Pre-registration required.  Register online here. \nFor more information\, contact Emma Blackford at emma.blackford@naturalsciences.org or 919.707.8737. In case of inclement weather\, call the Prairie Ridge weather line at 919.707.8888\, option 5\, for information about possible cancellations. \n\nNOTICE TO CHILDREN AND GUARDIANS\nIf you are under age 13 and you wish to participate in certain events or exhibits at\, conducted by\, or sponsored by the North Carolina Museum of Natural Sciences\, your parent or guardian must register you and provide their consent as well as your information. Please see our privacy policy at http://naturalsciences.org/about/privacy-information for additional information.
URL:https://naturalsciences.org/calendar/event/gardening-for-kids/
LOCATION:Prairie Ridge\, 1671 Gold Star Drive\, Raleigh\, NC\, 27607\, United States
CATEGORIES:Adults,Children,General Events,K-12 Students
ORGANIZER;CN="Emma%20Blackford":MAILTO:emma.blackford@naturalsciences.org
GEO:35.812182885871;-78.713963528554
X-APPLE-STRUCTURED-LOCATION;VALUE=URI;X-ADDRESS=Prairie Ridge 1671 Gold Star Drive Raleigh NC 27607 United States;X-APPLE-RADIUS=500;X-TITLE=1671 Gold Star Drive:geo:-78.713963528554,35.812182885871
END:VEVENT
END:VCALENDAR