BEGIN:VCALENDAR
VERSION:2.0
PRODID:-//Programs and Events Calendar - ECPv5.9.0//NONSGML v1.0//EN
CALSCALE:GREGORIAN
METHOD:PUBLISH
X-WR-CALNAME:Programs and Events Calendar
X-ORIGINAL-URL:https://naturalsciences.org/calendar
X-WR-CALDESC:Events for Programs and Events Calendar
BEGIN:VTIMEZONE
TZID:America/New_York
BEGIN:DAYLIGHT
TZOFFSETFROM:-0500
TZOFFSETTO:-0400
TZNAME:EDT
DTSTART:20230312T070000
END:DAYLIGHT
BEGIN:STANDARD
TZOFFSETFROM:-0400
TZOFFSETTO:-0500
TZNAME:EST
DTSTART:20231105T060000
END:STANDARD
END:VTIMEZONE
BEGIN:VEVENT
DTSTART;TZID=America/New_York:20231213T160000
DTEND;TZID=America/New_York:20231213T170000
DTSTAMP:20260423T111349
CREATED:20231117T032221Z
LAST-MODIFIED:20231117T154626Z
UID:90200-1702483200-1702486800@naturalsciences.org
SUMMARY:Extreme Mammals
DESCRIPTION:Our world has a huge diversity of mammals. Some mammals are smaller than your hand\, others are larger than a house! Some live in the ocean\, underground or in the Arctic. Some are even armored or venomous! Come learn about the most extreme mammals on the planet! \nThis virtual program requires pre-registration:  Pre-register here to receive the Zoom link. \nThis ecoEXPLORE program is geared toward children in grades K-8 and their families\, but all are welcome! You will learn about the ecoEXPLORE project during the program. \n\nNOTICE TO CHILDREN AND GUARDIANS \nIf you are under age 13 and you wish to participate in certain events or exhibits at\, conducted by\, or sponsored by the North Carolina Museum of Natural Sciences\, your parent or guardian must register you and provide their consent as well as your information. Please see our privacy policy for additional information. \n\nQuestions?  Contact the ecoEXPLORE Central team.
URL:https://naturalsciences.org/calendar/event/extreme-mammals/
LOCATION:Virtual\, NC\, United States
CATEGORIES:Children,Citizen Science,ecoEXPLORE,Prairie Ridge,Virtual
ORGANIZER;CN="ecoEXPLORE%20Team":MAILTO:ecoexplore@naturalsciences.org
END:VEVENT
END:VCALENDAR