BEGIN:VCALENDAR
VERSION:2.0
PRODID:-//Programs and Events Calendar - ECPv5.9.0//NONSGML v1.0//EN
CALSCALE:GREGORIAN
METHOD:PUBLISH
X-WR-CALNAME:Programs and Events Calendar
X-ORIGINAL-URL:https://naturalsciences.org/calendar
X-WR-CALDESC:Events for Programs and Events Calendar
BEGIN:VTIMEZONE
TZID:America/New_York
BEGIN:DAYLIGHT
TZOFFSETFROM:-0500
TZOFFSETTO:-0400
TZNAME:EDT
DTSTART:20240310T070000
END:DAYLIGHT
BEGIN:STANDARD
TZOFFSETFROM:-0400
TZOFFSETTO:-0500
TZNAME:EST
DTSTART:20241103T060000
END:STANDARD
END:VTIMEZONE
BEGIN:VEVENT
DTSTART;TZID=America/New_York:20240427T100000
DTEND;TZID=America/New_York:20240427T170000
DTSTAMP:20260425T124903
CREATED:20240215T161438Z
LAST-MODIFIED:20250130T221712Z
UID:93909-1714212000-1714237200@naturalsciences.org
SUMMARY:Dueling Dinosaurs Grand Opening
DESCRIPTION:Dueling Dinosaurs Grand Opening Presentations \nGrand Opening Activities Page | Opening Celebrations Sponsors \nGetting Here and Parking \n\nJoin us for a celebration of science innovation\, discovery and education in North Carolina. \nOn Saturday\, April 27\, we’re celebrating the Grand Opening of Dueling Dinosaurs – an exciting new exhibit that will forever change how we view the world’s two favorite dinosaurs – the tyrannosaur and the Triceratops. Enter the world of a paleontologist\, where you’ll see dinosaur fossils still encased in the sediment that buried them. Watch scientists in their lab as they uncover\, grain by grain\, the dinosaurs that lie beneath. Talk to the research team as they work to piece together this mystery. Join us on a thrilling journey of scientific exploration\, 67 million years in the making. \nThe Dueling Dinosaurs Grand Opening is a community celebration of STEM innovation in North Carolina that brings research to the forefront\, and is part of the North Carolina Science Festival. Enjoy meeting Museum scientists as they showcase our research and collections. Meet scientists and professionals from universities and other organizations. Join in the excitement of paleontology\, science and technology with fun hands-on activities\, games\, crafts and presentations. Programs are designed for all ages and stages of learning\, and families are encouraged to attend. \nThis Grand Opening is FREE and open to the public. No ticket is required for entry to the Dueling Dinosaurs exhibit on this day only. Guests will be admitted first come\, first served. \n\nVolunteering\nWant to be part of the event? Volunteer with us! Volunteer jobs span logistics (set up\, breakdown\, meal service\, counting visitors\, etc.)\, running educational stations\, and engaging children in crafts and activities! It’s an incredibly rewarding experience packed with fun\, and you’ll gain an in-depth understanding of the event. Plus\, volunteers who commit to two or more shifts will receive complimentary lunch. Join us in making this event unforgettable! \nVolunteers must be at least 13 years old to volunteer without a parent. Volunteers must be at least 10 years old to volunteer with a parent and parent must fill out form if child us under the age of 13 (please note on form who parent/guardian is). \nQuestions? Contact Miranda Dowdy. \nVolunteer Form\n \n\nOpening Celebrations\n\nGala: April 19\, 6:30-10pm\nFriends & Family Day: April 20\, 10am–5pm\nGrand Opening: April 27\, 10am–5pm\n\n\nDueling Dinosaurs Opening Celebrations Sponsors\n\n\n\n\n\n\n\n\n\n\n\n\n\n\n\n\n\n\n\n\nBernadette Healy Goodnight & James Goodnight\n\n\n\n\n\n\n\n\n\n\n\n\n\n\n\n\n\n\n\nAnn & James Goodnight\n\n\nBeth & Julian Williamson\n\n\n\n\n\nAnonymous\nGail & Dean Bunce\nCapital Development Services/CapDev\nCapTrust\nJason Catlin & Jan Burkhard Catlin\nThe Colopy Family\nBarden Culbreth\nKathy & Tom Dow\nJennifer & Paul Elam\n\n\nThomas S. Kenan III\nCarlton & Marjorie Midyette\nAndrea Nixon & Brent Friedenberg\nPNC Bank\nMaryCraven & Dennis Poteat\nMegg & Robert Rader\nCindy & Richard Urquhardt\nVictoria Wheeler & Karl Rectanus\nDenise Young\n\n\n\n\n\n\nJean & Jack Barrier\nKari Barsness\nBatchelor Tillery & Roberts LLP\nKevin & Mary Brice\nCarlyle Adams Foundation\nClayton Kids Dentistry\nLauren Cole\nElizabeth & Richard Epstein\nKendrick & Brandon Fentress\nAndrea & Neil Fox\nJeff & Sally Greaser\nChris & Allison Hodges\nGeorge & Alice Horton\nMartha & Ken Howard\nKane Realty Corporation\nGretchen & Philip Kowalczyk\nSusu & Steven Lilly\n\nLyn Maness\nJanis McLaughlin\nAnna & Phil Menzies\nMichael Best Strategies LLC\nJanie & William Morgan\nJohn P. Noble Jr.\nDanielle & William Parry-Hill\nZeel & Ritesh Patel\nLeslie & David Pressel\nRHA Wealth\nLeigh Ann & Roger Smith\nDaniel Solomon\nAlice & Christian Tate\nWilliams Realty & Building Company Inc.\nWomble Bond Dickinson\nChristy & Daniel Wopperer\nBruce Worf\n\n\n  \n\n\nOpening Celebrations Sponsorship\nEnjoy complimentary tickets with exclusive invitation to our pre-party Happy Hour and Sponsors-Only VIP Lounge\, featuring elevated desserts\, a full bar and special access to world-renowned paleontologist\, Dr. Lindsay Zanno\, and more. For more information\, review our sponsorship levels or contact Joseph Luhning at 919.707.9817\, Joseph.Luhning@naturalsciences.org. \nDueling Dinosaurs Opening Celebrations Committee\n\nDrew Ammons\nJason Barron\nKari Barsness\nRhonda Hubbard Beatty\nEmily Burkhart\nLauren Cole\nCassandra Stroud Conover\nJennifer Elam\nAndrea Fox\nBernadette Healy Goodnight\nCatherine Mattesich Taylor\nMark McIntire\nEmily McLoughlin\nLou Muglia\nAndrea Nixon\nZeel Patel\nBrenda Pollard\nMegg Rader\nMike Rapacz\nTommy Sevier\nMissie Thompson\nAnita Watkins\nShanna Windham
URL:https://naturalsciences.org/calendar/event/dueling-dinosaurs-grand-opening/
LOCATION:Downtown Raleigh\, 11 West Jones Street\, Raleigh\, NC\, 27601\, United States
CATEGORIES:Accessible,Adults,All Ages,Children,Educators,K-12 Students,Paleontology,Special Events,Teens
ORGANIZER;CN="Kari%20Wouk":MAILTO:kari.wouk@naturalsciences.org
GEO:35.7822735;-78.6395502
X-APPLE-STRUCTURED-LOCATION;VALUE=URI;X-ADDRESS=Downtown Raleigh 11 West Jones Street Raleigh NC 27601 United States;X-APPLE-RADIUS=500;X-TITLE=11 West Jones Street:geo:-78.6395502,35.7822735
END:VEVENT
END:VCALENDAR