BEGIN:VCALENDAR
VERSION:2.0
PRODID:-//Programs and Events Calendar - ECPv5.9.0//NONSGML v1.0//EN
CALSCALE:GREGORIAN
METHOD:PUBLISH
X-WR-CALNAME:Programs and Events Calendar
X-ORIGINAL-URL:https://naturalsciences.org/calendar
X-WR-CALDESC:Events for Programs and Events Calendar
BEGIN:VTIMEZONE
TZID:America/New_York
BEGIN:DAYLIGHT
TZOFFSETFROM:-0500
TZOFFSETTO:-0400
TZNAME:EDT
DTSTART:20250309T070000
END:DAYLIGHT
BEGIN:STANDARD
TZOFFSETFROM:-0400
TZOFFSETTO:-0500
TZNAME:EST
DTSTART:20251102T060000
END:STANDARD
END:VTIMEZONE
BEGIN:VEVENT
DTSTART;TZID=America/New_York:20250726T100000
DTEND;TZID=America/New_York:20250726T170000
DTSTAMP:20260422T045328
CREATED:20250502T162800Z
LAST-MODIFIED:20250709T181344Z
UID:109553-1753524000-1753549200@naturalsciences.org
SUMMARY:Día de la Ciencia y la Cultura
DESCRIPTION:Exhibiciones y Actividades | Exhibits & Activities\nAccesibilidad | Accessibility\nVoluntarios | Volunteers\nPresentaciones | Presentations\n  \n \n¡El Día de la Ciencia y la Cultura ha vuelto— y esta vez más grande y emocionante que nunca! \nNos expandimos a los dos edificios del Museo\, ofreciendo aún más oportunidades para explorar\, aprender y celebrar juntos. Sumérgete en una experiencia vibrante y completamente bilingüe (español-inglés) que combina ciencia\, cultura e innovación. \nInteractúa con científicos a través de actividades prácticas y exhibiciones interactivas\, mientras disfrutas de la riqueza de las tradiciones latinas y el patrimonio hispano. Junto con música\, narraciones\, arte y presentaciones culturales\, podrás descubrir las fascinantes conexiones entre la ciencia y la cultura. \nTanto si eres un apasionado/a de la ciencia\, como si tienes curiosidad o simplemente buscas pasar un día divertido en el Museo\, este evento gratuito tiene algo para todos. ¡Es una celebración del conocimiento\, la diversidad y la comunidad que no te puedes perder! \nPresentado en colaboración con el Consulado General de México en Raleigh y RedGlobalMX Capítulo Raleigh. \n\nDía de la Ciencia y la Cultura is back—this time bigger and more exciting! \nWe’re expanding across both Museum buildings\, offering even more opportunities to explore\, learn\, and celebrate together. Immerse yourself in a vibrant\, fully bilingual experience (Spanish-English) that combines science\, culture\, and innovation. \nEngage with scientists through hands-on activities and interactive exhibits while enjoying the richness of Latino traditions and Hispanic heritage. Alongside music\, storytelling\, art\, and cultural showcases\, guests can discover the fascinating connections between science and culture. \nWhether you are a science enthusiast\, a curious learner\, or just looking for a fun day at the Museum\, this free event has something for everyone. It’s a celebration of knowledge\, diversity\, and community you don’t want to miss! \nPresented in partnership with the Consulate General of Mexico in Raleigh and RedGlobalMX Raleigh Chapter.
URL:https://naturalsciences.org/calendar/event/dia-de-la-ciencia-y-la-cultura-2/
LOCATION:Downtown Raleigh\, 11 West Jones Street\, Raleigh\, NC\, 27601\, United States
CATEGORIES:Adults,All Ages,Children,General Events,Special Events
ORGANIZER;CN="Hugo%20Romero-Sanchez":MAILTO:hugo.romero@naturalsciences.org
GEO:35.7822735;-78.6395502
X-APPLE-STRUCTURED-LOCATION;VALUE=URI;X-ADDRESS=Downtown Raleigh 11 West Jones Street Raleigh NC 27601 United States;X-APPLE-RADIUS=500;X-TITLE=11 West Jones Street:geo:-78.6395502,35.7822735
END:VEVENT
END:VCALENDAR