BEGIN:VCALENDAR
VERSION:2.0
PRODID:-//Programs and Events Calendar - ECPv5.9.0//NONSGML v1.0//EN
CALSCALE:GREGORIAN
METHOD:PUBLISH
X-WR-CALNAME:Programs and Events Calendar
X-ORIGINAL-URL:https://naturalsciences.org/calendar
X-WR-CALDESC:Events for Programs and Events Calendar
BEGIN:VTIMEZONE
TZID:America/New_York
BEGIN:DAYLIGHT
TZOFFSETFROM:-0500
TZOFFSETTO:-0400
TZNAME:EDT
DTSTART:20230312T070000
END:DAYLIGHT
BEGIN:STANDARD
TZOFFSETFROM:-0400
TZOFFSETTO:-0500
TZNAME:EST
DTSTART:20231105T060000
END:STANDARD
END:VTIMEZONE
BEGIN:VEVENT
DTSTART;TZID=America/New_York:20230915T110000
DTEND;TZID=America/New_York:20230915T120000
DTSTAMP:20260420T082948
CREATED:20230824T140755Z
LAST-MODIFIED:20230914T145533Z
UID:87332-1694775600-1694779200@naturalsciences.org
SUMMARY:Critter Cook-off for BugFest 2023
DESCRIPTION:Visit the North Carolina Museum of Natural Sciences on Friday\, Sept. 15 from 11am to noon\, for an Iron Chef-style cook-off with a twist featuring local chefs from SoulBachi and Ethio-Indi Alkaline Cuisine. These adventurous chefs will create an appetizer\, entrée and dessert incorporating ingredients ranging from crickets to superworms (darkling beetle larvae). \nThis year’s brave taste-testers will judge the buggy fare based on taste\, presentation and creativity. Our judges panel features Michelle Mackonochie\, Morning Anchor for WRAL News; Rachel Duensing\, Meteorologist for CBS17; Karen Clark\, Mid-day Personality for Foxy 107/104 Radio; and Dr. Nigel Armes\, Entomologist and Director of R&D Operations from BASF. \nYou can watch the competition in person on the first floor of the Nature Exploration Center (11 W Jones St. entrance). The program will also stream live online on YouTube.
URL:https://naturalsciences.org/calendar/event/critter-cook-off-for-bugfest-2023/
LOCATION:Downtown Raleigh\, 11 West Jones Street\, Raleigh\, NC\, 27601\, United States
CATEGORIES:Adults,All Ages,Children,Downtown Raleigh,Special Events,Teens,Virtual
ORGANIZER;CN="Chris%20Smith":MAILTO:christopher.smith@naturalsciences.org
GEO:35.7822735;-78.6395502
X-APPLE-STRUCTURED-LOCATION;VALUE=URI;X-ADDRESS=Downtown Raleigh 11 West Jones Street Raleigh NC 27601 United States;X-APPLE-RADIUS=500;X-TITLE=11 West Jones Street:geo:-78.6395502,35.7822735
END:VEVENT
END:VCALENDAR