BEGIN:VCALENDAR
VERSION:2.0
PRODID:-//Programs and Events Calendar - ECPv5.9.0//NONSGML v1.0//EN
CALSCALE:GREGORIAN
METHOD:PUBLISH
X-WR-CALNAME:Programs and Events Calendar
X-ORIGINAL-URL:https://naturalsciences.org/calendar
X-WR-CALDESC:Events for Programs and Events Calendar
BEGIN:VTIMEZONE
TZID:America/New_York
BEGIN:DAYLIGHT
TZOFFSETFROM:-0500
TZOFFSETTO:-0400
TZNAME:EDT
DTSTART:20220313T070000
END:DAYLIGHT
BEGIN:STANDARD
TZOFFSETFROM:-0400
TZOFFSETTO:-0500
TZNAME:EST
DTSTART:20221106T060000
END:STANDARD
END:VTIMEZONE
BEGIN:VEVENT
DTSTART;TZID=America/New_York:20221004T140000
DTEND;TZID=America/New_York:20221004T150000
DTSTAMP:20260420T005950
CREATED:20220920T191821Z
LAST-MODIFIED:20220920T191821Z
UID:77921-1664892000-1664895600@naturalsciences.org
SUMMARY:BioBlitz Pond Exploration
DESCRIPTION:Join our resident pond insect expert at the Prairie Ridge pond as we look at and document its biodiversity! We’ll dive into the world of the aquatic invertebrates that live below the surface while also keeping an eye out for above-water pond organisms like dragonflies\, damselflies\, birds\, frogs\, turtles\, and more! \nThis program is designed for visitors of all ages\, particularly those with an interest in learning more about citizen science! Families with kids welcomed and encouraged to attend\, as well as adults looking for an opportunity to dive into pond ecology. This is a free program beginning at 2:00pm at the Prairie Ridge pond platforms (follow the trail through the prairie and over the ridge until you see the Bird Blind and pond at the bottom of the hill). Come dressed for the weather and prepared to get wet! Downloading the iNaturalist app ahead of time will be helpful in preparing to document the critters you find.
URL:https://naturalsciences.org/calendar/event/bioblitz-pond-exploration/
LOCATION:Prairie Ridge\, 1671 Gold Star Drive\, Raleigh\, NC\, 27607\, United States
CATEGORIES:Adults,All Ages,Children,Citizen Science,General Events,K-12 Students,Teens
ORGANIZER;CN="Chris%20Goforth":MAILTO:chris.goforth@naturalsciences.org
GEO:35.812182885871;-78.713963528554
X-APPLE-STRUCTURED-LOCATION;VALUE=URI;X-ADDRESS=Prairie Ridge 1671 Gold Star Drive Raleigh NC 27607 United States;X-APPLE-RADIUS=500;X-TITLE=1671 Gold Star Drive:geo:-78.713963528554,35.812182885871
END:VEVENT
END:VCALENDAR