BEGIN:VCALENDAR
VERSION:2.0
PRODID:-//Programs and Events Calendar - ECPv5.9.0//NONSGML v1.0//EN
CALSCALE:GREGORIAN
METHOD:PUBLISH
X-WR-CALNAME:Programs and Events Calendar
X-ORIGINAL-URL:https://naturalsciences.org/calendar
X-WR-CALDESC:Events for Programs and Events Calendar
BEGIN:VTIMEZONE
TZID:America/New_York
BEGIN:DAYLIGHT
TZOFFSETFROM:-0500
TZOFFSETTO:-0400
TZNAME:EDT
DTSTART:20210314T070000
END:DAYLIGHT
BEGIN:STANDARD
TZOFFSETFROM:-0400
TZOFFSETTO:-0500
TZNAME:EST
DTSTART:20211107T060000
END:STANDARD
END:VTIMEZONE
BEGIN:VEVENT
DTSTART;TZID=America/New_York:20210914T150000
DTEND;TZID=America/New_York:20210914T153000
DTSTAMP:20260421T210857
CREATED:20210905T213104Z
LAST-MODIFIED:20220216T150211Z
UID:65276-1631631600-1631633400@naturalsciences.org
SUMMARY:3D Movie: Volcanoes
DESCRIPTION:Volcanoes 3D\n“Volcanoes: The Fires of Creation” is a tale of science\, culture and thrilling adventure. Earth is a planet born of fire. For billions of years\, volcanoes have helped forge the world we know. From the continents to the air we breathe and even life itself\, all have been shaped by volcanic energy. These processes have created extraordinary ecosystems and wildlife habitats. With over 500 active volcanoes\, the Earth is bursting at the seams with these forces of mass construction. The story of volcanoes is the story of the planet’s creation and the story of us. \nWith intrepid explorer Carsten Peter\, dodge boulders at the edge of an active volcano in Indonesia\, descend to a lava lake in Vanuatu and visit incredible acid ponds\, geysers and mineral deposit fields in Ethiopia. Travel across the globe to see the archeological ghost town of Pompeii\, hydrothermal vents at the bottom of the ocean and witness the devastating effects of the 2018 Kilauea eruption in Hawaii. \nBUY TICKETS\nVolcanoes 3D website\nVolcanoes 3D Educator Guides \n\n\n﻿
URL:https://naturalsciences.org/calendar/event/3d-movie-volcanoes-4/2021-09-14/
LOCATION:Downtown Raleigh\, 11 West Jones Street\, Raleigh\, NC\, 27601\, United States
CATEGORIES:Adults,All Ages,Children,Movies,Teens,WRAL 3D Theater
ORGANIZER;CN="Museum%20Box%20Office":MAILTO:museumboxoffice@naturalsciences.org
GEO:35.7822735;-78.6395502
X-APPLE-STRUCTURED-LOCATION;VALUE=URI;X-ADDRESS=Downtown Raleigh 11 West Jones Street Raleigh NC 27601 United States;X-APPLE-RADIUS=500;X-TITLE=11 West Jones Street:geo:-78.6395502,35.7822735
END:VEVENT
END:VCALENDAR