BEGIN:VCALENDAR
VERSION:2.0
PRODID:-//Programs and Events Calendar - ECPv5.9.0//NONSGML v1.0//EN
CALSCALE:GREGORIAN
METHOD:PUBLISH
X-WR-CALNAME:Programs and Events Calendar
X-ORIGINAL-URL:https://naturalsciences.org/calendar
X-WR-CALDESC:Events for Programs and Events Calendar
BEGIN:VTIMEZONE
TZID:America/New_York
BEGIN:DAYLIGHT
TZOFFSETFROM:-0500
TZOFFSETTO:-0400
TZNAME:EDT
DTSTART:20220313T070000
END:DAYLIGHT
BEGIN:STANDARD
TZOFFSETFROM:-0400
TZOFFSETTO:-0500
TZNAME:EST
DTSTART:20221106T060000
END:STANDARD
END:VTIMEZONE
BEGIN:VEVENT
DTSTART;TZID=America/New_York:20221015T130000
DTEND;TZID=America/New_York:20221015T133000
DTSTAMP:20260420T071304
CREATED:20220811T200035Z
LAST-MODIFIED:20230406T153829Z
UID:76408-1665838800-1665840600@naturalsciences.org
SUMMARY:3D Movie: Incredible Predators
DESCRIPTION:Incredible Predators 3D\n“Incredible Predators” deconstructs the world of major predators as never before\, taking an intimate look at the remarkable strategies they use to succeed. Advanced filming techniques expose the planet’s top predators in extraordinary footage\, putting the audience right beside them as they hunt – on land\, under the sea or in the air. \nFar from a film about the kill\, instead the audience will be emotionally engaged with the key characters\, learning how these supreme species must be at the very peak of performance to have any chance of success. Their backstory will be a key part of the narrative; to understand a cheetah’s dilemma you must meet her hungry cubs. \nTop predators occupy an apex position within the habitats they dominate and\, alongside dramatic animal behavior\, “Incredible Predators” reveals the unique relationship between predators and prey as a fundamental building block of ecology. \nBUY TICKETS\nIncredible Predators 3D website
URL:https://naturalsciences.org/calendar/event/3d-movie-incredible-predators-6/2022-10-15/
LOCATION:Downtown Raleigh\, 11 West Jones Street\, Raleigh\, NC\, 27601\, United States
CATEGORIES:Adults,Children,Movies,Teens,WRAL 3D Theater
ORGANIZER;CN="Museum%20Box%20Office":MAILTO:museumboxoffice@naturalsciences.org
GEO:35.7822735;-78.6395502
X-APPLE-STRUCTURED-LOCATION;VALUE=URI;X-ADDRESS=Downtown Raleigh 11 West Jones Street Raleigh NC 27601 United States;X-APPLE-RADIUS=500;X-TITLE=11 West Jones Street:geo:-78.6395502,35.7822735
END:VEVENT
END:VCALENDAR